BEGIN:VCALENDAR
VERSION:2.0
PRODID:-//wp-events-plugin.com//7.2.3.1//EN
TZID:Europe/London
X-WR-TIMEZONE:Europe/London
BEGIN:VEVENT
UID:1-5415@westbourneforum.org.uk
DTSTART;TZID=Europe/London:20230213T100000
DTEND;TZID=Europe/London:20230213T160000
DTSTAMP:20230201T194913Z
URL:https://westbourneforum.org.uk/events/avenues-half-term-holiday-progra
 mme-2023-02-13/
SUMMARY:Avenues half term holiday programme
DESCRIPTION:*PLEASE NOTE: This project is part of the February Half Term ac
 tivities\, funded by Westminster City Council\n\nActivities take place in 
 our purpose-built youth facility in North Westminster. Children aged 8-18 
 are grouped by age and choose stimulating\, fun activities that interest t
 hem\, including sports and games\, music\, cooking skills\, art and design
 \, dance\, off-site trips and more.\n\nSessions are led by our team of tra
 ined youth workers\, who provide support and guidance to the children\, wo
 rking to build their confidence and encourage them to develop new skills. 
 Staff-to-child ratios are usually 1:8.\n\nAll activities are free to use a
 nd we provide a free breakfast bar and cooked lunch\n\nDetails of free mea
 l provided: Meals will be prepared in our recently renovated kitchen with 
 approximately 1000 nutritious meals being provided throughout the week. Th
 ese include a healthy breakfast bar\, and daily hot meals – typically st
 ir-fries\, homemade spaghetti Bolognese\, oven-baked chicken\n\nNearest bu
 s stop: Harrow Road\, Third Avenue (east) and Second Avenue (west)\, buses
  18 and 228.\nNearest tube stop: Queen’s Park\, Westbourne Park\, Kensal
  Green\n\nContact email: hello@avenues.org.uk\nContact phone number: 020 8
 969 9552\n\nBooking required.
ATTACH;FMTTYPE=image/jpeg:https://i0.wp.com/westbourneforum.org.uk/wp-cont
 ent/uploads/2023/02/Screen-Shot-2022-10-04-at-10.59.20_2022-10-04-095939_y
 nfp-header.webp?fit=800%2C445&ssl=1
LOCATION:The Avenues Youth Project\, 3 - 7 Third Avenue\, Queen's Park\, En
 gland\, W10 4RS\, Westminster\, United Kingdom
GEO:51.527092;-0.207978
X-APPLE-STRUCTURED-LOCATION;VALUE=URI;X-ADDRESS=3 - 7 Third Avenue\, Queen'
 s Park\, England\, W10 4RS\, Westminster\, United Kingdom;X-APPLE-RADIUS=1
 00;X-TITLE=The Avenues Youth Project:geo:51.527092,-0.207978
ORGANIZER;CN="Westbourne Forum":MAILTO:westbourne-admin@westbourneforum.org.uk
END:VEVENT
BEGIN:VTIMEZONE
TZID:Europe/London
X-LIC-LOCATION:Europe/London
BEGIN:STANDARD
DTSTART:20221030T010000
TZOFFSETFROM:+0100
TZOFFSETTO:+0000
TZNAME:GMT
END:STANDARD
END:VTIMEZONE
END:VCALENDAR