BEGIN:VCALENDAR
VERSION:2.0
PRODID:-//wp-events-plugin.com//7.2.3.1//EN
TZID:Europe/London
X-WR-TIMEZONE:Europe/London
BEGIN:VEVENT
UID:1-8563@westbourneforum.org.uk
DTSTART;TZID=Europe/London:20231023T100000
DTEND;TZID=Europe/London:20231023T160000
DTSTAMP:20231016T204658Z
URL:https://westbourneforum.org.uk/events/avenues-half-term-holiday-progra
 mme-2-2023-10-23/
SUMMARY:Avenues Half Term Holiday Programme
DESCRIPTION:Activities take place in our purpose-built youth facility in No
 rth Westminster. Children aged 8-18 are grouped by age and choose stimulat
 ing\, fun activities that interest them\, including sports and games\, mus
 ic\, cooking skills\, art and design\, dance\, off-site trips and more.\n\
 nSessions are led by our team of trained youth workers\, who provide suppo
 rt and guidance to the children\, working to build their confidence and en
 courage them to develop new skills. Staff-to-child ratios are usually 1:8.
 \n\nAll activities are free to use and we provide a free breakfast bar and
  cooked lunch\n\nDetails of free meal provided:\n\nMeals will be prepared 
 in our recently renovated kitchen with approximately 1000 nutritious meals
  being provided throughout the week. These include a healthy breakfast bar
 \, and daily hot meals – typically stir-fries\, homemade spaghetti Bolog
 nese\, oven-baked chicken and rice and oven-baked fish bites and skin-on c
 hips.\n\nNearest bus stop: Harrow Road\, Third Avenue (east) and Second A
 venue (west)\, buses 18 and 228.\nNearest tube stop: Queen’s Park\, Wes
 tbourne Park\, Kensal Green\n\nContact email: hello@avenues.org.uk\nConta
 ct phone number: 020 8969 9552\n\nBooking required\n\nAGE RANGE: 8 - 18
  | PRICE: FREE | ACTIVITY BY: THE AVENUES YOUTH PROJECT
ATTACH;FMTTYPE=image/jpeg:https://i0.wp.com/westbourneforum.org.uk/wp-cont
 ent/uploads/2023/07/Avenues.webp?fit=800%2C445&ssl=1
LOCATION:The Avenues Youth Project\, 3 - 7 Third Avenue\, Queen's Park\, En
 gland\, W10 4RS\, Westminster\, United Kingdom
GEO:51.527092;-0.207978
X-APPLE-STRUCTURED-LOCATION;VALUE=URI;X-ADDRESS=3 - 7 Third Avenue\, Queen'
 s Park\, England\, W10 4RS\, Westminster\, United Kingdom;X-APPLE-RADIUS=1
 00;X-TITLE=The Avenues Youth Project:geo:51.527092,-0.207978
ORGANIZER;CN="Westbourne Forum":MAILTO:westbourne-admin@westbourneforum.org.uk
END:VEVENT
BEGIN:VTIMEZONE
TZID:Europe/London
X-LIC-LOCATION:Europe/London
BEGIN:DAYLIGHT
DTSTART:20230326T020000
TZOFFSETFROM:+0000
TZOFFSETTO:+0100
TZNAME:BST
END:DAYLIGHT
END:VTIMEZONE
END:VCALENDAR