BEGIN:VCALENDAR
VERSION:2.0
PRODID:-//wp-events-plugin.com//7.2.3.1//EN
TZID:Europe/London
X-WR-TIMEZONE:Europe/London
BEGIN:VEVENT
UID:1-6621@westbourneforum.org.uk
DTSTART;TZID=Europe/London:20230815T110000
DTEND;TZID=Europe/London:20230815T150000
DTSTAMP:20230716T175256Z
URL:https://westbourneforum.org.uk/events/august-23-club-xpress-2023-08-15
 /
SUMMARY:August 23 Club 'Xpress
DESCRIPTION:Come and visit Club 'Xpress @ Westbourne Family Park Centre thi
 s August! Fun and exciting activities!\n\nGames\, Sports\, Bouncy Castle\,
  Cricket skills\, Creative activities\, Life skills\, Friendship\, Postive
  Young Role models\, Awards for effort and behaviour\n\nDetails of free me
 al provided: Choice of Halal Sandwich and wraps\, pizza\, fruit\, youghur
 t\, popcorn\, water\n\nNearest bus stop: 18 &amp\; 36\nNearest tube stop:
  Royal Oak\n\nContact email: geoffbiggs@westbourneparkfamilycentre.org.u
 k\nContact phone number: 07941 100 762\n\n*Cost for non-Free School Meals 
 Children and Young People: £5 per day (to cover free pack lunch)\n\nBook
 ing required.\n\nVenue website.\n\nHAF project page.
ATTACH;FMTTYPE=image/jpeg:https://i0.wp.com/westbourneforum.org.uk/wp-cont
 ent/uploads/2023/07/pic-2.webp?fit=800%2C445&ssl=1
LOCATION:Westbourne Park Family Centre\, Baptist Church\, Porchester Road\,
  Westminster\, London\, W2 5DX\, England\, United Kingdom
GEO:51.518597;-0.189192
X-APPLE-STRUCTURED-LOCATION;VALUE=URI;X-ADDRESS=Baptist Church\, Porchester
  Road\, Westminster\, London\, W2 5DX\, England\, United Kingdom;X-APPLE-R
 ADIUS=100;X-TITLE=Westbourne Park Family Centre:geo:51.518597,-0.189192
ORGANIZER;CN="Westbourne Forum":MAILTO:westbourne-admin@westbourneforum.org.uk
END:VEVENT
BEGIN:VTIMEZONE
TZID:Europe/London
X-LIC-LOCATION:Europe/London
BEGIN:DAYLIGHT
DTSTART:20230326T020000
TZOFFSETFROM:+0000
TZOFFSETTO:+0100
TZNAME:BST
END:DAYLIGHT
END:VTIMEZONE
END:VCALENDAR