BEGIN:VCALENDAR
VERSION:2.0
PRODID:-//wp-events-plugin.com//7.2.3.1//EN
TZID:Europe/London
X-WR-TIMEZONE:Europe/London
BEGIN:VEVENT
UID:1-11732@westbourneforum.org.uk
DTSTART;TZID=Europe/London:20240402T133000
DTEND;TZID=Europe/London:20240402T150000
DTSTAMP:20240507T044800Z
URL:https://westbourneforum.org.uk/events/art-therapy-2024-04-02/
SUMMARY:Art Therapy
DESCRIPTION:
ATTACH;FMTTYPE=image/jpeg:https://i0.wp.com/westbourneforum.org.uk/wp-cont
 ent/uploads/2024/02/Art-Theraby-banner.webp?fit=1080%2C601&ssl=1
LOCATION:JNC Fitness\, 31 Elkstone Road\, London\, England\, W10 5NT\, Kens
 ington and Chelsea\, United Kingdom
GEO:51.522228;-0.203126
X-APPLE-STRUCTURED-LOCATION;VALUE=URI;X-ADDRESS=31 Elkstone Road\, London\,
  England\, W10 5NT\, Kensington and Chelsea\, United Kingdom;X-APPLE-RADIU
 S=100;X-TITLE=JNC Fitness:geo:51.522228,-0.203126
ORGANIZER;CN="Westbourne Forum":MAILTO:westbourne-admin@westbourneforum.org.uk
END:VEVENT
BEGIN:VTIMEZONE
TZID:Europe/London
X-LIC-LOCATION:Europe/London
BEGIN:DAYLIGHT
DTSTART:20240331T020000
TZOFFSETFROM:+0000
TZOFFSETTO:+0100
TZNAME:BST
END:DAYLIGHT
END:VTIMEZONE
END:VCALENDAR