BEGIN:VCALENDAR
VERSION:2.0
PRODID:-//wp-events-plugin.com//7.2.3.1//EN
TZID:Europe/London
X-WR-TIMEZONE:Europe/London
BEGIN:VEVENT
UID:1-5145@westbourneforum.org.uk
DTSTART;TZID=Europe/London:20230121T100000
DTEND;TZID=Europe/London:20230121T120000
DTSTAMP:20230123T021828Z
URL:https://westbourneforum.org.uk/events/art-party-9/
SUMMARY:Art Party
DESCRIPTION:\n\n\n\nArt Party is our popular monthly family drop-in worksho
 p. Join us for two hours of creative fun and games.\n\nThe excellent Socia
 l Fabric\, who will be guiding you through simple and creative screen prin
 ting techniques – you’ll have something beautiful to take home with yo
 u! And the infamous Happy Lizzy and Champagne Shane who will be bringing b
 undles of toys and giant bubbles.\n\nMost suited to children aged 2-11 and
  their families.\n\nTo watch family friendly art activities right now\, vi
 sit our You Tube Channel here\n\n\n\n
ATTACH;FMTTYPE=image/jpeg:https://i0.wp.com/westbourneforum.org.uk/wp-cont
 ent/uploads/2023/01/art-party-banner-2-header.webp?fit=800%2C445&ssl=1
LOCATION:Grand Junction\, St Mary Magdalene Church\, Rowington Close\, West
 minster\, London\, W2 5TF\, England\, United Kingdom
GEO:51.5224;-0.188497
X-APPLE-STRUCTURED-LOCATION;VALUE=URI;X-ADDRESS=St Mary Magdalene Church\, 
 Rowington Close\, Westminster\, London\, W2 5TF\, England\, United Kingdom
 ;X-APPLE-RADIUS=100;X-TITLE=Grand Junction:geo:51.5224,-0.188497
ORGANIZER;CN="Westbourne Forum":MAILTO:westbourne-admin@westbourneforum.org.uk
END:VEVENT
BEGIN:VTIMEZONE
TZID:Europe/London
X-LIC-LOCATION:Europe/London
BEGIN:STANDARD
DTSTART:20221030T010000
TZOFFSETFROM:+0100
TZOFFSETTO:+0000
TZNAME:GMT
END:STANDARD
END:VTIMEZONE
END:VCALENDAR