BEGIN:VCALENDAR
VERSION:2.0
PRODID:-//wp-events-plugin.com//7.2.3.1//EN
TZID:Europe/London
X-WR-TIMEZONE:Europe/London
BEGIN:VEVENT
UID:1-7924@westbourneforum.org.uk
DTSTART;TZID=Europe/London:20230930T100000
DTEND;TZID=Europe/London:20230930T120000
DTSTAMP:20230916T003127Z
URL:https://westbourneforum.org.uk/events/art-party-2023-09-30/
SUMMARY:Art Party
DESCRIPTION:Art Party is our Saturday morning family workshop\, taking over
  Grand Junction with amazing art activities and games for the whole family
 .\n\nCreative drop-in sessions for young children aged 0 - 10 at Grand Jun
 ction.\n\nBubbles\, games\, toys\, art &amp\; more!\n\nFREE. No booking re
 quired.\n\nFurther details\n\n
ATTACH;FMTTYPE=image/jpeg:https://i0.wp.com/westbourneforum.org.uk/wp-cont
 ent/uploads/2023/09/Art-Party-Banner.webp?fit=1383%2C770&ssl=1
LOCATION:Grand Junction\, St Mary Magdalene Church\, Rowington Close\, West
 minster\, London\, W2 5TF\, England\, United Kingdom
GEO:51.5224;-0.188497
X-APPLE-STRUCTURED-LOCATION;VALUE=URI;X-ADDRESS=St Mary Magdalene Church\, 
 Rowington Close\, Westminster\, London\, W2 5TF\, England\, United Kingdom
 ;X-APPLE-RADIUS=100;X-TITLE=Grand Junction:geo:51.5224,-0.188497
ORGANIZER;CN="Westbourne Forum":MAILTO:westbourne-admin@westbourneforum.org.uk
END:VEVENT
BEGIN:VTIMEZONE
TZID:Europe/London
X-LIC-LOCATION:Europe/London
BEGIN:DAYLIGHT
DTSTART:20230326T020000
TZOFFSETFROM:+0000
TZOFFSETTO:+0100
TZNAME:BST
END:DAYLIGHT
END:VTIMEZONE
END:VCALENDAR