BEGIN:VCALENDAR
VERSION:2.0
PRODID:-//wp-events-plugin.com//7.2.3.1//EN
TZID:Europe/London
X-WR-TIMEZONE:Europe/London
BEGIN:VEVENT
UID:1-7674@westbourneforum.org.uk
DTSTART;TZID=Europe/London:20240106T200000
DTEND;TZID=Europe/London:20240106T200000
DTSTAMP:20230909T213623Z
URL:https://westbourneforum.org.uk/events/arab-christmas/
SUMMARY:Arab Christmas
DESCRIPTION:Experience the atmosphere of Christmas in the Arab world as Gra
 nd Junction is gently lit by candles to hear Arabic\, Syriac\, Coptic\, an
 d Byzantine chants\, harking back to the time of Queen Zanubia’s Palmyra
  in the second century CE.\n\nCo-presented by Arts Canteen and Grand Junct
 ion\n\n£18 + booking fee\n\nFurther details and bookings
ATTACH;FMTTYPE=image/jpeg:https://i0.wp.com/westbourneforum.org.uk/wp-cont
 ent/uploads/2023/09/arab-christmas-banner.webp?fit=800%2C445&ssl=1
LOCATION:Grand Junction\, St Mary Magdalene Church\, Rowington Close\, West
 minster\, London\, W2 5TF\, England\, United Kingdom
GEO:51.5224;-0.188497
X-APPLE-STRUCTURED-LOCATION;VALUE=URI;X-ADDRESS=St Mary Magdalene Church\, 
 Rowington Close\, Westminster\, London\, W2 5TF\, England\, United Kingdom
 ;X-APPLE-RADIUS=100;X-TITLE=Grand Junction:geo:51.5224,-0.188497
ORGANIZER;CN="Westbourne Forum":MAILTO:westbourne-admin@westbourneforum.org.uk
END:VEVENT
BEGIN:VTIMEZONE
TZID:Europe/London
X-LIC-LOCATION:Europe/London
BEGIN:STANDARD
DTSTART:20231029T010000
TZOFFSETFROM:+0100
TZOFFSETTO:+0000
TZNAME:GMT
END:STANDARD
END:VTIMEZONE
END:VCALENDAR