BEGIN:VCALENDAR
VERSION:2.0
PRODID:-//wp-events-plugin.com//7.2.3.1//EN
TZID:Europe/London
X-WR-TIMEZONE:Europe/London
BEGIN:VEVENT
UID:1-7005@westbourneforum.org.uk
DTSTART;TZID=Europe/London:20230817T120000
DTEND;TZID=Europe/London:20230817T180000
DTSTAMP:20230727T014001Z
URL:https://westbourneforum.org.uk/events/amberley-summer-2023-08-17/
SUMMARY:Amberley Summer
DESCRIPTION:PLEASE NOTE: This project is part of the Holiday Activities &am
 p\; Food ( HAF ) Programme\, for young people living in Westminster who ar
 e eligible for free school meals.\n\nThe Summer Programme for the Amberley
  includes trips and outings to the cinema\, paintballing\, Go-karting and 
 a continued focus on outdoor and sports events including football\, basket
 ball and parkour and we will run our own sports days.\n\nWe will also run 
 chess tournaments\, quizzes\, table tennis and continue the popular bike p
 roject.\n\nDetails of meal provided:\n\nYoung people will be involved in m
 enu planning and preparing fresh health food and we will provide sandwiche
 s and healthy snacks for days when we have outdoor activities and outings.
 \n\nTelephone: 07467 104 500\nEmail: c.wint@futuremen.org\n\nNearest bus s
 top – Sutherland Avenue\nNearest tube stop – Warwick Avenue\n\nBooking
  required.\n\nfuturemen.org
ATTACH;FMTTYPE=image/jpeg:https://i0.wp.com/westbourneforum.org.uk/wp-cont
 ent/uploads/2023/07/stills6-header.webp?fit=800%2C445&ssl=1
LOCATION:Amberley Club House\, 10 Clearwell Drive\, London\, England\, W9 2
 JZ\, Westminster\, United Kingdom
GEO:51.523854;-0.189598
X-APPLE-STRUCTURED-LOCATION;VALUE=URI;X-ADDRESS=10 Clearwell Drive\, London
 \, England\, W9 2JZ\, Westminster\, United Kingdom;X-APPLE-RADIUS=100;X-TI
 TLE=Amberley Club House:geo:51.523854,-0.189598
ORGANIZER;CN="Westbourne Forum":MAILTO:westbourne-admin@westbourneforum.org.uk
END:VEVENT
BEGIN:VTIMEZONE
TZID:Europe/London
X-LIC-LOCATION:Europe/London
BEGIN:DAYLIGHT
DTSTART:20230326T020000
TZOFFSETFROM:+0000
TZOFFSETTO:+0100
TZNAME:BST
END:DAYLIGHT
END:VTIMEZONE
END:VCALENDAR