BEGIN:VCALENDAR
VERSION:2.0
PRODID:-//wp-events-plugin.com//7.2.3.1//EN
TZID:Europe/London
X-WR-TIMEZONE:Europe/London
BEGIN:VEVENT
UID:1-5275@westbourneforum.org.uk
DTSTART;TZID=Europe/London:20230203T153000
DTEND;TZID=Europe/London:20230203T170000
DTSTAMP:20230131T213417Z
URL:https://westbourneforum.org.uk/events/after-school-multi-sports-sessio
 ns-2023-02-03/
SUMMARY:After School Multi-Sports Sessions
DESCRIPTION:The sessions are delivered by highly experienced and qualified 
 community\, youth and sports coaches who are enhanced DBS cleared to work 
 with children and young people.\n\nOur sessions focuses on a number of spo
 rts\, health\, fitness and wellbeing activities with games planned towards
  the end of each and every sessions.\n\nThis project is in partnership wit
 h Four Feather and funded by Westminster City Council (WCC) Neighbourhood 
 Keepers Fund.\n\nFor further information\, please get in touch with a memb
 er of the Pro Touch SA Team or Future Men Lead Staff.\n\nPro Touch SA Offi
 ce: 020 3395 9472\n\nEmail: info@protouchsa.co.uk\n\nPro Touch SA Lead Coa
 ch Paul Davis - Mobile: 07874 872 047\n\nActivity Details:\n\nIt is close 
 to Marylebone railway and Underground stations\n\nFollow us on Facebook\, 
 Twitter\, Instagram\, Snapchat\, Flipagram\, YouTube @protouchsa\n\nPro To
 uch SA Community Interest Company. Registered in England and Wales No. 106
 75065\n\nWe are affiliated and associated members with London Youth\, Midd
 lesex FA\, Sported UK\, Street Games UK\, Sport &amp\; Recreation Alliance
 \, Sporting Equals and UK Youth.\n\nWe've successfully secured accreditati
 on from FA Charter Standard\, Camden Active and Active Westminster Marks.\
 n\nProject runs weekly
ATTACH;FMTTYPE=image/jpeg:https://i0.wp.com/westbourneforum.org.uk/wp-cont
 ent/uploads/2023/01/NED3999PTSA-HAF.webp?fit=800%2C445&ssl=1
LOCATION:Feathers Marylebone\,  12 Rossmore Road\, London\, England\, NW1 6
 NX\, Westminster\, United Kingdom
GEO:51.5248;-0.164837
X-APPLE-STRUCTURED-LOCATION;VALUE=URI;X-ADDRESS= 12 Rossmore Road\, London\
 , England\, NW1 6NX\, Westminster\, United Kingdom;X-APPLE-RADIUS=100;X-TI
 TLE=Feathers Marylebone:geo:51.5248,-0.164837
ORGANIZER;CN="Westbourne Forum":MAILTO:westbourne-admin@westbourneforum.org.uk
END:VEVENT
BEGIN:VTIMEZONE
TZID:Europe/London
X-LIC-LOCATION:Europe/London
BEGIN:STANDARD
DTSTART:20221030T010000
TZOFFSETFROM:+0100
TZOFFSETTO:+0000
TZNAME:GMT
END:STANDARD
END:VTIMEZONE
END:VCALENDAR