BEGIN:VCALENDAR
VERSION:2.0
PRODID:-//wp-events-plugin.com//7.2.3.1//EN
TZID:Europe/London
X-WR-TIMEZONE:Europe/London
BEGIN:VEVENT
UID:1-132@westbourneforum.org.uk
DTSTART;TZID=Europe/London:20201208T100000
DTEND;TZID=Europe/London:20201208T120000
DTSTAMP:20201211T161509Z
URL:https://westbourneforum.org.uk/events/acorns-music-making-2020-12-08/
SUMMARY:Acorns Music Making
DESCRIPTION:10:00-10:45 / 11.15-12.00\n\nParenting advice offered during se
 ssions\nCharge per session: £1 Families £2 Childminders £3 Nannies\n\nW
 orking to Covid-19 government guidelines\n\nTo book a session register onl
 ine: westbourneparkfamilycentre.org.uk\nor come to the centre and complete
  the registration form.\n\n&nbsp\;
ATTACH;FMTTYPE=image/jpeg:https://i0.wp.com/westbourneforum.org.uk/wp-cont
 ent/uploads/2020/12/Acorns-Early-Years-drop-ins-WPFC-featured-image.jpg?fi
 t=800%2C445&ssl=1
LOCATION:Westbourne Park Family Centre\, Baptist Church\, Porchester Road\,
  Westminster\, London\, W2 5DX\, England\, United Kingdom
GEO:51.518597;-0.189192
X-APPLE-STRUCTURED-LOCATION;VALUE=URI;X-ADDRESS=Baptist Church\, Porchester
  Road\, Westminster\, London\, W2 5DX\, England\, United Kingdom;X-APPLE-R
 ADIUS=100;X-TITLE=Westbourne Park Family Centre:geo:51.518597,-0.189192
ORGANIZER;CN="Westbourne Forum":MAILTO:westbourne-admin@westbourneforum.org.uk
END:VEVENT
BEGIN:VTIMEZONE
TZID:Europe/London
X-LIC-LOCATION:Europe/London
BEGIN:STANDARD
DTSTART:20201025T010000
TZOFFSETFROM:+0100
TZOFFSETTO:+0000
TZNAME:GMT
END:STANDARD
END:VTIMEZONE
END:VCALENDAR