BEGIN:VCALENDAR
VERSION:2.0
PRODID:-//wp-events-plugin.com//7.2.3.1//EN
TZID:Europe/London
X-WR-TIMEZONE:Europe/London
BEGIN:VEVENT
UID:1-4848@westbourneforum.org.uk
DTSTART;TZID=Europe/London:20230609T111500
DTEND;TZID=Europe/London:20230609T120000
DTSTAMP:20230104T191425Z
URL:https://westbourneforum.org.uk/events/acorns-messy-church-2023-06-09/
SUMMARY:Acorns: Messy Church
DESCRIPTION:We finish the week on Friday with a creative session followed l
 ater with 'Messy Church' in partnership with Westbourne Park Baptist Churc
 h.\n\nOur Acorns stay and play sessions are for families and carers with c
 hildren under 5 years old.\nWe are open to all on Tuesday\, Thursday and F
 riday with a families only session on Wednesday.\nThe sessions make good u
 se of the new purpose built facilities of Westbourne Park Baptist Church\,
  for children to play\, learn\, explore and socialise while parents and ca
 rers are encouraged to interact with them through a variety of activities.
 \n\nParenting advice and support offered during sessions\nCharge per sessi
 on\n£1 Families\n£2 Childminders\n£3 Nannies\n\nIf you have any questio
 ns please email Suna on: suna@westbourneparkfamilycentre.org.uk\nIf you wo
 uld like any specific parenting advice please email Wendy on: wendy@westbo
 urneparkfamilycentre.org.uk
ATTACH;FMTTYPE=image/jpeg:https://i0.wp.com/westbourneforum.org.uk/wp-cont
 ent/uploads/2020/12/Acorns-Early-Years-drop-ins-WPFC-featured-image.jpg?fi
 t=800%2C445&ssl=1
LOCATION:Westbourne Park Family Centre\, Baptist Church\, Porchester Road\,
  Westminster\, London\, W2 5DX\, England\, United Kingdom
GEO:51.518597;-0.189192
X-APPLE-STRUCTURED-LOCATION;VALUE=URI;X-ADDRESS=Baptist Church\, Porchester
  Road\, Westminster\, London\, W2 5DX\, England\, United Kingdom;X-APPLE-R
 ADIUS=100;X-TITLE=Westbourne Park Family Centre:geo:51.518597,-0.189192
ORGANIZER;CN="Westbourne Forum":MAILTO:westbourne-admin@westbourneforum.org.uk
END:VEVENT
BEGIN:VTIMEZONE
TZID:Europe/London
X-LIC-LOCATION:Europe/London
BEGIN:DAYLIGHT
DTSTART:20230326T020000
TZOFFSETFROM:+0000
TZOFFSETTO:+0100
TZNAME:BST
END:DAYLIGHT
END:VTIMEZONE
END:VCALENDAR