BEGIN:VCALENDAR
VERSION:2.0
PRODID:-//wp-events-plugin.com//7.2.3.1//EN
TZID:Europe/London
X-WR-TIMEZONE:Europe/London
BEGIN:VEVENT
UID:1-13321@westbourneforum.org.uk
DTSTART;TZID=Europe/London:20240807T110000
DTEND;TZID=Europe/London:20240807T160000
DTSTAMP:20240730T205136Z
URL:https://westbourneforum.org.uk/events/a-common-london-story-2024-08-07
 /
SUMMARY:A Common London Story
DESCRIPTION:\n\nWe're excited to invite you to "A Common London Story"\, a 
 photography exhibition showcasing the vibrant heritage of North Westminste
 r through the unique perspectives of young people aged 5 to 15.\n\nThe exh
 ibition will be open to the public from August 6th to 8th at Grand Junctio
 n\, W2 5TF.\n\nThis special event captures the essence of London in a fres
 h and inspiring way. We'd be delighted if you could attend and experience 
 the rich culture and history of our city as seen through the eyes of our t
 alented young photographers.\n\nWe look forward to welcoming you to this c
 elebration of local creativity and heritage.\n\nwww.nasgroup.org.uk | admi
 n@nasgroup.org.uk | 077 6183 8177\n\n
ATTACH;FMTTYPE=image/jpeg:https://i0.wp.com/westbourneforum.org.uk/wp-cont
 ent/uploads/2024/07/A-Common-London-Story-banner.webp?fit=2211%2C1230&ssl=
 1
LOCATION:Grand Junction\, St Mary Magdalene Church\, Rowington Close\, West
 minster\, London\, W2 5TF\, England\, United Kingdom
GEO:51.5224;-0.188497
X-APPLE-STRUCTURED-LOCATION;VALUE=URI;X-ADDRESS=St Mary Magdalene Church\, 
 Rowington Close\, Westminster\, London\, W2 5TF\, England\, United Kingdom
 ;X-APPLE-RADIUS=100;X-TITLE=Grand Junction:geo:51.5224,-0.188497
ORGANIZER;CN="Westbourne Forum":MAILTO:westbourne-admin@westbourneforum.org.uk
END:VEVENT
BEGIN:VTIMEZONE
TZID:Europe/London
X-LIC-LOCATION:Europe/London
BEGIN:DAYLIGHT
DTSTART:20240331T020000
TZOFFSETFROM:+0000
TZOFFSETTO:+0100
TZNAME:BST
END:DAYLIGHT
END:VTIMEZONE
END:VCALENDAR