BEGIN:VCALENDAR
VERSION:2.0
PRODID:-//wp-events-plugin.com//7.2.3.1//EN
TZID:Europe/London
X-WR-TIMEZONE:Europe/London
BEGIN:VEVENT
UID:1-14605@westbourneforum.org.uk
DTSTART;TZID=Europe/London:20241030T103000
DTEND;TZID=Europe/London:20241030T163000
DTSTAMP:20241013T211209Z
URL:https://westbourneforum.org.uk/events/32483-2024-10-30/
SUMMARY:October Half Term Holiday 2024
DESCRIPTION:&#x1f341\;October 2024 Half Term holiday community adventure pl
 ay provision staffed by a team of experienced play-workers who will be del
 ivering an exciting &amp\; enriching programme of daily play activities an
 d projects.\n\nActivities include art\, crafts\, sports\, games\, gardenin
 g\, cooking\, dance\, music and a Halloween Party. We also have goats! &#x
 1f410\;\n\n&#x1f33d\;Food and snacks are included &#x1f37d\;\n\n&#x1f33b\;
 Spaces available for children with SEND – please contact us to arrange\n
 \nCome join the fun!&#x1f917\;\n\nSEND friendly\nWe offer some 1:1 support
  for children with Special Educational Needs &amp\; Disabilities at this p
 rogramme. Contact us to discuss how we can support your child.\n\nNo need 
 to book\n\nFurther details\n\n020 8969 5740\n\nhornimansadventure.com/\n\n
 hornimansadventure@btinternet.com
ATTACH;FMTTYPE=image/jpeg:https://i0.wp.com/westbourneforum.org.uk/wp-cont
 ent/uploads/2024/07/Summer-Holidays-2024-at-Hornimans-Adventure-Playground
 -banner.webp?fit=800%2C445&ssl=1
LOCATION:Hornimans Adventure Playground\, Southern Row\, London\, England\,
  W10 5AN\, Kensington and Chelsea\, United Kingdom
GEO:51.525233;-0.209218
X-APPLE-STRUCTURED-LOCATION;VALUE=URI;X-ADDRESS=Southern Row\, London\, Eng
 land\, W10 5AN\, Kensington and Chelsea\, United Kingdom;X-APPLE-RADIUS=10
 0;X-TITLE=Hornimans Adventure Playground:geo:51.525233,-0.209218
ORGANIZER;CN="Westbourne Forum":MAILTO:westbourne-admin@westbourneforum.org.uk
END:VEVENT
BEGIN:VTIMEZONE
TZID:Europe/London
X-LIC-LOCATION:Europe/London
BEGIN:STANDARD
DTSTART:20241027T010000
TZOFFSETFROM:+0100
TZOFFSETTO:+0000
TZNAME:GMT
END:STANDARD
END:VTIMEZONE
END:VCALENDAR