BEGIN:VCALENDAR
VERSION:2.0
PRODID:-//wp-events-plugin.com//7.2.3.1//EN
TZID:Europe/London
X-WR-TIMEZONE:Europe/London
BEGIN:VEVENT
UID:1-7641@westbourneforum.org.uk
DTSTART;TZID=Europe/London:20231026T170000
DTEND;TZID=Europe/London:20231026T170000
DTSTAMP:20230914T033138Z
URL:https://westbourneforum.org.uk/events/20831-2023-10-26/
SUMMARY:Punching in Pimlico
DESCRIPTION:\n\nwww.treasureboxingclub.com/pages/after-school-boxing-club\n
 \nwww.facebook.com/TreasureBoxingClub\n\n
ATTACH;FMTTYPE=image/jpeg:https://i0.wp.com/westbourneforum.org.uk/wp-cont
 ent/uploads/2023/09/Punching-in-Pimlico-banner.webp?fit=1009%2C561&ssl=1
LOCATION:Churchill Hall\, Churchill Gardens\, London\, England\, SW1V 3AL\,
  Westminster\, United Kingdom
GEO:51.486641;-0.14261
X-APPLE-STRUCTURED-LOCATION;VALUE=URI;X-ADDRESS=Churchill Gardens\, London\
 , England\, SW1V 3AL\, Westminster\, United Kingdom;X-APPLE-RADIUS=100;X-T
 ITLE=Churchill Hall:geo:51.486641,-0.14261
ORGANIZER;CN="Westbourne Forum":MAILTO:westbourne-admin@westbourneforum.org.uk
END:VEVENT
BEGIN:VTIMEZONE
TZID:Europe/London
X-LIC-LOCATION:Europe/London
BEGIN:DAYLIGHT
DTSTART:20230326T020000
TZOFFSETFROM:+0000
TZOFFSETTO:+0100
TZNAME:BST
END:DAYLIGHT
END:VTIMEZONE
END:VCALENDAR