BEGIN:VCALENDAR
VERSION:2.0
PRODID:-//wp-events-plugin.com//7.2.3.1//EN
TZID:Europe/London
X-WR-TIMEZONE:Europe/London
BEGIN:VEVENT
UID:1-11864@westbourneforum.org.uk
DTSTART;TZID=Europe/London:20240525T180000
DTEND;TZID=Europe/London:20240525T210000
DTSTAMP:20240521T012203Z
URL:https://westbourneforum.org.uk/events/10-years-of-queens-park-communit
 y-council/
SUMMARY:10 years of Queen's Park Community Council
DESCRIPTION:\n\nNo need to register!\n\n077 7668 3760\n\ninfo@queensparkcom
 munitycouncil.gov.uk\n\n&nbsp\;\n\n
ATTACH;FMTTYPE=image/jpeg:https://i0.wp.com/westbourneforum.org.uk/wp-cont
 ent/uploads/2024/05/10-years-of-Queens-Park-Community-Council-banner.webp?
 fit=800%2C445&ssl=1
LOCATION:Happy Hub\, 23 Third Avenue\, Queen's Park\, England\, W10 4RS\, W
 estminster\, United Kingdom
GEO:51.528003;-0.207694
X-APPLE-STRUCTURED-LOCATION;VALUE=URI;X-ADDRESS=23 Third Avenue\, Queen's P
 ark\, England\, W10 4RS\, Westminster\, United Kingdom;X-APPLE-RADIUS=100;
 X-TITLE=Happy Hub:geo:51.528003,-0.207694
ORGANIZER;CN="Westbourne Forum":MAILTO:westbourne-admin@westbourneforum.org.uk
END:VEVENT
BEGIN:VTIMEZONE
TZID:Europe/London
X-LIC-LOCATION:Europe/London
BEGIN:DAYLIGHT
DTSTART:20240331T020000
TZOFFSETFROM:+0000
TZOFFSETTO:+0100
TZNAME:BST
END:DAYLIGHT
END:VTIMEZONE
END:VCALENDAR